BEGIN:VCALENDAR
VERSION:2.0
PRODID:-//ChamberMaster//Event Calendar 2.0//EN
METHOD:PUBLISH
X-PUBLISHED-TTL:P3D
REFRESH-INTERVAL:P3D
CALSCALE:GREGORIAN
BEGIN:VEVENT
DTSTART:20221101T130000Z
DTEND:20221101T140000Z
X-MICROSOFT-CDO-ALLDAYEVENT:FALSE
SUMMARY:ADP Services Workshop
DESCRIPTION:Join us on November 1st at 9am via Zoom for a comprehensive workshop with ADP. ADP is a comprehensive global provider of cloud-based human capital management (HCM) solutions that unite HR\, payroll\, talent\, time\, tax\, and benefits administration\, and a leader in business outsourcing services\, analytics and compliance expertise.
X-ALT-DESC;FMTTYPE=text/html:<span style="font-size:14px\;"><span style="font-family:verdana\;">Join us on November 1st at 9am via Zoom for a comprehensive workshop with ADP. ADP is<span style="letter-spacing: 0.4px\; text-align: center\; background-color: rgb(255\, 255\, 255)\;">&nbsp\;a comprehensive global provider of cloud-based human capital management (HCM) solutions that unite HR\, payroll\, talent\, time\, tax\, and benefits administration\,&nbsp\;</span><span style="letter-spacing: 0.4px\; text-align: center\; background-color: rgb(255\, 255\, 255)\;">and a leader in business outsourcing services\, analytics and compliance expertise.&nbsp\;</span></span></span>
LOCATION:via Zoom. Once you register\, you will be sent the Zoom link to the webinar.
UID:e.2406.21829
SEQUENCE:3
DTSTAMP:20260420T183642Z
URL:https://www.theisle.biz/events/details/adp-services-workshop-21829
END:VEVENT

END:VCALENDAR
