BEGIN:VCALENDAR
VERSION:2.0
PRODID:-//ChamberMaster//Event Calendar 2.0//EN
METHOD:PUBLISH
X-PUBLISHED-TTL:P3D
REFRESH-INTERVAL:P3D
CALSCALE:GREGORIAN
BEGIN:VEVENT
DTSTART:20230112T223000Z
DTEND:20230113T000000Z
X-MICROSOFT-CDO-ALLDAYEVENT:FALSE
SUMMARY:Biz After Hours at Alternative Aging & Medispa
DESCRIPTION:Please join us for our first Biz After Hours of 2023! Mark your calendars for an evening of networking at Alternative Aging & Medispa! There will be beverages\, demos\, and discount packages. This event is free for IOW Chamber members and future members. Bring your business cards and enjoy an evening with us for our first networking event of 2023!
X-ALT-DESC;FMTTYPE=text/html:<p style="line-height: 100%\; orphans: 2\; widows: 2\; margin-bottom: 0in"><span style="font-size:22px\;"><span style="font-variant: normal"><font color="#1d2129"><font face="Helvetica\, Arial\, sans-serif"><font style="font-size: 8pt"><span style="letter-spacing: normal"><span style="font-style: normal"><span style="font-weight: normal">Please join us for our first Biz After Hours of 2023! Mark your calendars for an evening of networking&nbsp\;at </span></span></span></font></font></font><font color="#202124"><font face="Google Sans\, Roboto\, arial\, sans-serif"><font style="font-size: 8pt"><span style="letter-spacing: normal"><span style="font-style: normal"><span style="font-weight: normal">Alternative Aging &amp\; Medispa!</span></span></span></font></font></font><span style="font-variant: normal"><font color="#1d2129"><font face="Helvetica\, Arial\, sans-serif"><font style="font-size: 8pt"><span style="letter-spacing: normal"><span style="font-style: normal"><span style="font-weight: normal"> </span></span></span></font></font></font></span><font color="#1d2129"><font face="Helvetica\, Arial\, sans-serif"><font style="font-size: 8pt"><span style="letter-spacing: normal"><span style="font-style: normal"><span style="font-weight: normal">There will be beverages\, demos\, and discount packages. </span></span></span></font></font></font></span><span style="font-variant: normal"><font color="#1d2129"><font face="Helvetica\, Arial\, sans-serif"><font style="font-size: 8pt"><span style="letter-spacing: normal"><span style="font-style: normal"><span style="font-weight: normal">This event is free for IOW Chamber members and future members. Bring your business cards and enjoy an evening with us for our </span></span></span></font></font></font></span><span style="font-variant: normal"><font color="#1d2129"><font face="Helvetica\, Arial\, sans-serif"><font style="font-size: 8pt"><span style="letter-spacing: normal"><span style="font-style: normal"><span style="font-weight: normal">first </span></span></span></font></font></font></span><span style="font-variant: normal"><font color="#1d2129"><font face="Helvetica\, Arial\, sans-serif"><font style="font-size: 8pt"><span style="letter-spacing: normal"><span style="font-style: normal"><span style="font-weight: normal">networking event of 2023!</span></span></span></font></font></font></span></span></p>\n
LOCATION:Alternative Aging & Medispa 15137 Carrollton Blvd Carrollton\, VA 23314
UID:e.2406.21832
SEQUENCE:3
DTSTAMP:20260421T004529Z
URL:https://www.theisle.biz/events/details/biz-after-hours-at-alternative-aging-medispa-21832
END:VEVENT

END:VCALENDAR
