BEGIN:VCALENDAR
VERSION:2.0
PRODID:-//ChamberMaster//Event Calendar 2.0//EN
METHOD:PUBLISH
X-PUBLISHED-TTL:P3D
REFRESH-INTERVAL:P3D
CALSCALE:GREGORIAN
BEGIN:VEVENT
DTSTART:20221201T223000Z
DTEND:20221202T000000Z
X-MICROSOFT-CDO-ALLDAYEVENT:FALSE
SUMMARY:Biz After Hours at Smithfield Little Theatre
DESCRIPTION:Please join us for our holiday Biz After Hours! Mark your calendars for an evening of "mingling" and "jingling" with the cast of A Charlie Brown Christmas at Smithfield Little Theatre! This event is free for IOW Chamber members and future members. Bring your business cards and enjoy an evening with us for our last networking event of 2022!
X-ALT-DESC;FMTTYPE=text/html:<span style="color: rgb(29\, 33\, 41)\; font-family: Helvetica\, Arial\, sans-serif\; font-size: 14px\; white-space: pre-wrap\; background-color: rgb(255\, 255\, 255)\;">Please join us for our holiday Biz After Hours! Mark your calendars for an evening of &quot\;mingling&quot\; and &quot\;jingling&quot\; with the cast of <em>A Charlie Brown Christmas</em>&nbsp\;at Smithfield Little Theatre! This event is free for IOW Chamber members and future members. Bring your business cards and enjoy an evening with us for our last networking event of 2022!</span>
LOCATION:Smithfield Little Theatre 210 N Church Street Smithfield\, VA 23430
UID:e.2406.21830
SEQUENCE:3
DTSTAMP:20260420T190603Z
URL:https://www.theisle.biz/events/details/biz-after-hours-at-smithfield-little-theatre-21830
END:VEVENT

END:VCALENDAR
