BEGIN:VCALENDAR
VERSION:2.0
PRODID:-//ChamberMaster//Event Calendar 2.0//EN
METHOD:PUBLISH
X-PUBLISHED-TTL:P3D
REFRESH-INTERVAL:P3D
CALSCALE:GREGORIAN
BEGIN:VEVENT
DTSTART:20230406T213000Z
DTEND:20230406T230000Z
X-MICROSOFT-CDO-ALLDAYEVENT:FALSE
SUMMARY:Biz After Hours with Anytime Fitness & Windsor EDA
DESCRIPTION:Please join us for a Biz After Hours! Mark your calendars for an evening of networking at the Windsor Town Center sponsored by the Windsor Economic Development Authority and Anytime Fitness! Food and beverages will be provided. This event is free for IOW Chamber members and future members. Bring your business cards and enjoy an evening networking with us!
X-ALT-DESC;FMTTYPE=text/html:<p style="line-height: 100%\; orphans: 2\; widows: 2\; margin-bottom: 0in"><span style="font-size:22px\;"><span style="font-variant: normal"><font color="#1d2129"><font face="Helvetica\, Arial\, sans-serif"><font style="font-size: 8pt"><span style="letter-spacing: normal"><span style="font-style: normal"><span style="font-weight: normal">Please join us for a Biz After Hours! Mark your calendars for an evening of networking at the Windsor Town&nbsp\;Center sponsored by the Windsor Economic Development Authority and&nbsp\;Anytime Fitness</span></span></span></font></font></font><font color="#202124"><font face="Google Sans\, Roboto\, arial\, sans-serif"><font style="font-size: 8pt"><span style="letter-spacing: normal"><span style="font-style: normal"><span style="font-weight: normal">!</span></span></span></font></font></font><span style="font-variant: normal"><font color="#1d2129"><font face="Helvetica\, Arial\, sans-serif"><font style="font-size: 8pt"><span style="letter-spacing: normal"><span style="font-style: normal"><span style="font-weight: normal">&nbsp\;F</span></span></span></font></font></font></span><font color="#1d2129"><font face="Helvetica\, Arial\, sans-serif"><font style="font-size: 8pt"><span style="letter-spacing: normal"><span style="font-style: normal"><span style="font-weight: normal">ood and beverages will be provided.&nbsp\;</span></span></span></font></font></font></span><span style="font-variant: normal"><font color="#1d2129"><font face="Helvetica\, Arial\, sans-serif"><font style="font-size: 8pt"><span style="letter-spacing: normal"><span style="font-style: normal"><span style="font-weight: normal">This event is free for IOW Chamber members and future members. Bring your business cards and enjoy an evening networking with us</span></span></span></font></font></font></span><span style="font-variant: normal"><font color="#1d2129"><font face="Helvetica\, Arial\, sans-serif"><font style="font-size: 8pt"><span style="letter-spacing: normal"><span style="font-style: normal"><span style="font-weight: normal">!</span></span></span></font></font></font></span></span></p>\n
LOCATION:23361 Courthouse Hwy Windsor\, VA 23487
UID:e.2406.21840
SEQUENCE:3
DTSTAMP:20260421T055248Z
URL:https://www.theisle.biz/events/details/biz-after-hours-with-anytime-fitness-windsor-eda-21840
END:VEVENT

END:VCALENDAR
