BEGIN:VCALENDAR
VERSION:2.0
PRODID:-//ChamberMaster//Event Calendar 2.0//EN
METHOD:PUBLISH
X-PUBLISHED-TTL:P3D
REFRESH-INTERVAL:P3D
CALSCALE:GREGORIAN
BEGIN:VEVENT
DTSTART:20210425T170000Z
DTEND:20210425T200000Z
X-MICROSOFT-CDO-ALLDAYEVENT:FALSE
SUMMARY:Cans for Cupcakes
DESCRIPTION:Help us help the Isle of Wight Christian Outreach Program. Co-hosted by The Hogue Team of Keller Williams\, and The Cake House. Bring a canned good\, we'll give you a free cupcake! Please register at Facebook.com/HogueTeam to let us know you're coming\, and to pick your cupcake flavor.
X-ALT-DESC;FMTTYPE=text/html:Help us help the Isle of Wight Christian Outreach Program. Co-hosted by The Hogue Team of Keller Williams\, and The Cake House. Bring a canned good\, we&#39\;ll give you a free cupcake! Please register at Facebook.com/HogueTeam to let us know you&#39\;re coming\, and to pick your cupcake flavor.
LOCATION:The Cake House\, 1604 South Church Street\, Smithfield\, VA 23430
UID:e.2406.21407
SEQUENCE:3
DTSTAMP:20260424T055716Z
URL:https://www.theisle.biz/events/details/cans-for-cupcakes-21407
END:VEVENT

END:VCALENDAR
