BEGIN:VCALENDAR
VERSION:2.0
PRODID:-//ChamberMaster//Event Calendar 2.0//EN
METHOD:PUBLISH
X-PUBLISHED-TTL:P3D
REFRESH-INTERVAL:P3D
CALSCALE:GREGORIAN
BEGIN:VEVENT
DTSTART:20230302T133000Z
DTEND:20230302T150000Z
X-MICROSOFT-CDO-ALLDAYEVENT:FALSE
SUMMARY:Coffee Connect at AmeriCare Plus
DESCRIPTION:Join us for Coffee Connect\, our morning version of our very popular Biz After Hours! Come ready to network with professionals in Carrollton\, Smithfield\, and greater Isle of Wight at AmeriCare Plus!\n\nBring your business cards! \n\n\n\nAll Chamber members and future Chamber members are welcome to attend.
X-ALT-DESC;FMTTYPE=text/html:<span style="font-size:14px\;"><span style="font-family:tahoma\;"><span style="color: rgb(34\, 34\, 34)\;">Join us for Coffee Connect\, our morning version of our very popular Biz After Hours! Come ready to network with professionals in Carrollton\, Smithfield\, and greater Isle of Wight at AmeriCare Plus!<br />\nBring your business cards!&nbsp\;</span><br />\n<br />\nAll Chamber members and future Chamber members are welcome to attend.&nbsp\;</span></span>
LOCATION:AmeriCare Plus 13478 Carrollton Boulevard Suite Q Carrollton\, VA 23314
UID:e.2406.21837
SEQUENCE:3
DTSTAMP:20260421T035418Z
URL:https://www.theisle.biz/events/details/coffee-connect-at-americare-plus-21837
END:VEVENT

END:VCALENDAR
