BEGIN:VCALENDAR
VERSION:2.0
PRODID:-//ChamberMaster//Event Calendar 2.0//EN
METHOD:PUBLISH
X-PUBLISHED-TTL:P3D
REFRESH-INTERVAL:P3D
CALSCALE:GREGORIAN
BEGIN:VEVENT
DTSTART:20230202T133000Z
DTEND:20230202T150000Z
X-MICROSOFT-CDO-ALLDAYEVENT:FALSE
SUMMARY:Coffee Connect at Busy Nothings Coffee Co.
DESCRIPTION:Join us for Coffee Connect\, our morning version of our very popular Biz After Hours!\n\nCome ready to network with professionals in Carrollton\, Smithfield\, and greater Isle of Wight at Busy Nothings Coffee Co!\n\nLady Carroll is most eager to introduce herself to the Smithfield business community. Join her as she shares her approach to coffee brewing. She will demonstrate the innovative Ground Control Cyclops brewer-the first of its kind in Hampton Roads! Guests may also enjoy samples of coffee and LeWaf liege waffles. Looking forward to making great connections over coffee!\n\n\n\nAll Chamber members and future Chamber members are welcome to attend.
X-ALT-DESC;FMTTYPE=text/html:<span style="font-family:tahoma\;"><span style="color: rgb(34\, 34\, 34)\;">Join us for Coffee Connect\, our morning version of our very popular Biz After Hours!<br />\nCome ready to network with professionals in Carrollton\, Smithfield\, and greater Isle of Wight at Busy Nothings Coffee Co!</span><br />\n<span style="color: rgb(34\, 34\, 34)\; background-color: rgb(255\, 255\, 255)\;">Lady Carroll is most eager to introduce herself to the Smithfield business community. Join her as she shares her approach to coffee brewing. She will demonstrate the innovative Ground Control Cyclops brewer-the first of its kind in Hampton Roads! Guests may also enjoy samples of coffee and LeWaf liege waffles. Looking forward to making great connections over coffee!</span><br />\n<br />\nAll Chamber members and future Chamber members are welcome to attend.&nbsp\;</span>
LOCATION:Busy Nothings Coffee Co. 223 Main St\, Smithfield\, VA 23430
UID:e.2406.21839
SEQUENCE:3
DTSTAMP:20260421T023401Z
URL:https://www.theisle.biz/events/details/coffee-connect-at-busy-nothings-coffee-co-21839
END:VEVENT

END:VCALENDAR
