BEGIN:VCALENDAR
VERSION:2.0
PRODID:-//ChamberMaster//Event Calendar 2.0//EN
METHOD:PUBLISH
X-PUBLISHED-TTL:P3D
REFRESH-INTERVAL:P3D
CALSCALE:GREGORIAN
BEGIN:VEVENT
DTSTART:20221103T123000Z
DTEND:20221103T140000Z
X-MICROSOFT-CDO-ALLDAYEVENT:FALSE
SUMMARY:Coffee Connect at IOW Economic Development
DESCRIPTION:Join us for Coffee Connect\, our morning version of our very popular Biz After Hours! Come ready to network with professionals in Carrollton\, Smithfield\, and greater Isle of Wight at Boykin's Tavern Museum!\n\nBring your business cards! \n\n\n\nAll Chamber members and future Chamber members are welcome to attend.
X-ALT-DESC;FMTTYPE=text/html:<span style="font-size:14px\;"><span style="font-family:tahoma\;"><span style="color: rgb(34\, 34\, 34)\;">Join us for Coffee Connect\, our morning version of our very popular Biz After Hours! Come ready to network with professionals in Carrollton\, Smithfield\, and greater Isle of Wight at Boykin&#39\;s Tavern Museum!<br />\nBring your business cards!&nbsp\;</span><br />\n<br />\nAll Chamber members and future Chamber members are welcome to attend.&nbsp\;</span></span>
LOCATION:IOW Economic Development (Boykin's Tavern Museum) 17146 Monument Circle Isle of Wight\, VA 23397
UID:e.2406.21826
SEQUENCE:3
DTSTAMP:20260420T172019Z
URL:https://www.theisle.biz/events/details/coffee-connect-at-iow-economic-development-21826
END:VEVENT

END:VCALENDAR
