BEGIN:VCALENDAR
VERSION:2.0
PRODID:-//ChamberMaster//Event Calendar 2.0//EN
METHOD:PUBLISH
X-PUBLISHED-TTL:P3D
REFRESH-INTERVAL:P3D
CALSCALE:GREGORIAN
BEGIN:VEVENT
DTSTART:20220921T213000Z
DTEND:20220921T220000Z
X-MICROSOFT-CDO-ALLDAYEVENT:FALSE
SUMMARY:Croatia Trip Information Meeting
DESCRIPTION:The Isle of Wight Chamber of Commerce in partner with CI Destinations presents: "Croatia the Pearl of the Adriatic". A 7-night\, all-inclusive vacation to Croatia with trip highlights including: Dubrovnik\, Diocletian Palace\, Franciscan Monastery\, Montenegro\, Boat excursion to "Our Lady of the Rock"\, Peljesac Peninsula\, Monstar\, Kotor\, Split\, and Trogir. We will be hosting a free informational meeting about the trip on September 13th at 5:30pm via ZOOM. You must register for the informational meeting in order to be provided the ZOOM link.
X-ALT-DESC;FMTTYPE=text/html:The Isle of Wight Chamber of Commerce in partner with CI Destinations presents: <em>&quot\;Croatia the Pearl of the Adriatic&quot\;.&nbsp\;</em>A 7-night\, all-inclusive vacation to Croatia with trip highlights including: Dubrovnik\, Diocletian Palace\, Franciscan Monastery\, Montenegro\, Boat excursion to &quot\;Our Lady of the Rock&quot\;\, Peljesac Peninsula\, Monstar\, Kotor\, Split\, and Trogir. We will be hosting a free informational meeting about the trip on September 13th at 5:30pm via ZOOM. You must register for the informational meeting in order to be provided the ZOOM link.&nbsp\;
LOCATION:Online via ZOOM
UID:e.2406.21824
SEQUENCE:3
DTSTAMP:20260420T143645Z
URL:https://www.theisle.biz/events/details/croatia-trip-information-meeting-21824
END:VEVENT

END:VCALENDAR
