BEGIN:VCALENDAR
VERSION:2.0
PRODID:-//ChamberMaster//Event Calendar 2.0//EN
METHOD:PUBLISH
X-PUBLISHED-TTL:P3D
REFRESH-INTERVAL:P3D
CALSCALE:GREGORIAN
BEGIN:VEVENT
DTSTART:20220901T210000Z
DTEND:20220916T230000Z
X-MICROSOFT-CDO-ALLDAYEVENT:FALSE
SUMMARY:Hamtown Mercantile Ribbon Cutting Celebration
DESCRIPTION:The Hamtown Mercantile in downtown Smithfield officially opened its doors on July 1\, 2022. The Mercantile is home to over 30 individual boutique owners and businesses and feature everything from handmade goods\, to vintage records\, to gourmet grocery items\, and beyond! \n\n\n\nHamtown Mercantile Owners Jay & Amber Hassell are ready to celebrate with the community at the Grand Ribbon Cutting Celebration on September 1\, 2022 at 5:00 pm. Please join us for an evening of celebration in honor of downtown Smithfield's newest business! The Ribbon Cutting will take place at 5:00 PM followed by an evening of good food\, live music\, and shopping! Local leaders\, dignitaries\, Chamber members\, and the greater Smithfield & Isle of Wight Community are welcome to attend.
X-ALT-DESC;FMTTYPE=text/html:<font color="#222222" face="tahoma"><span style="font-size: 14px\;">The Hamtown Mercantile in downtown Smithfield officially opened its doors on July 1\, 2022. The Mercantile is home to over 30 individual boutique owners and businesses and feature everything from handmade goods\, to vintage records\, to gourmet grocery items\, and beyond!&nbsp\;<br />\n<br />\nHamtown Mercantile Owners Jay &amp\; Amber Hassell are ready to celebrate with the community at the Grand Ribbon Cutting Celebration on September 1\, 2022 at 5:00 pm. Please join us for an evening of celebration in honor of downtown Smithfield&#39\;s newest business! The Ribbon Cutting will take place at 5:00 PM followed by an evening of good food\, live music\, and shopping! Local leaders\, dignitaries\, Chamber members\, and the greater Smithfield &amp\; Isle of Wight Community are welcome to attend.&nbsp\;</span></font>
LOCATION:Hamtown Mercantile 223 Main Street Smithfield\, Virginia 23430
UID:e.2406.21819
SEQUENCE:3
DTSTAMP:20260420T141737Z
URL:https://www.theisle.biz/events/details/hamtown-mercantile-ribbon-cutting-celebration-21819
END:VEVENT

END:VCALENDAR
