BEGIN:VCALENDAR
VERSION:2.0
PRODID:-//ChamberMaster//Event Calendar 2.0//EN
METHOD:PUBLISH
X-PUBLISHED-TTL:P3D
REFRESH-INTERVAL:P3D
CALSCALE:GREGORIAN
BEGIN:VEVENT
DTSTART:20230420T143000Z
DTEND:20230420T160000Z
X-MICROSOFT-CDO-ALLDAYEVENT:FALSE
SUMMARY:Lunch & Learn
DESCRIPTION:If you own a small business\, are looking to start a small business\, or expand your current business\, this is the event for you! \n\nJoin us as we welcome a team of subject matter experts to discuss small business loan programs\, access to capital resources\, and more!\n\nRegistration Required!!!\n\nThis event is FREE to attend & lunch will be provided.\n\n\n\nSponsored by: Sentara
X-ALT-DESC;FMTTYPE=text/html:<span class="S1PPyQ">If you own a small business\, are looking to start a small business\, or expand your current business\, this is the event for you!&nbsp\;<br />\nJoin us as we welcome a team of subject matter experts to discuss small business loan programs\, access to capital resources\, and more!<br />\nRegistration Required!!!<br />\nThis event is FREE to attend &amp\; lunch will be provided.<br />\n<br />\nSponsored by: Sentara</span>
LOCATION:Sentara St. Lukes 20209 Sentara Way Carrollton\, VA 23314
UID:e.2406.21852
SEQUENCE:3
DTSTAMP:20260421T052237Z
URL:https://www.theisle.biz/events/details/lunch-learn-21852
END:VEVENT

END:VCALENDAR
