BEGIN:VCALENDAR
VERSION:2.0
PRODID:-//ChamberMaster//Event Calendar 2.0//EN
METHOD:PUBLISH
X-PUBLISHED-TTL:P3D
REFRESH-INTERVAL:P3D
CALSCALE:GREGORIAN
BEGIN:VEVENT
DTSTART:20220722T130000Z
DTEND:20220722T210000Z
X-MICROSOFT-CDO-ALLDAYEVENT:FALSE
SUMMARY:Notary Public Service Day
DESCRIPTION:Join Xzia Notary Services\, LLC and the Isle of Wight Chamber of Commerce for our 1st Notary Public Service Day! Notary Public and Certified Loan Signing Agent - Xzia Johnson\, will be at the Hamtown Hub in downtown Smithfield on July 22nd from 9am to 5pm to take care of all your general notary requests. Be sure to bring valid identification such as a passport/driver's license. *Please note that real estate transactions are not included in complimentary services offered for this particular event. Limit two stamps per person/transaction. Xzia J Notary Services offers mobile professional notary services including power of attorney\, deeds\, trusts\, advanced directives and loan signing services.
X-ALT-DESC;FMTTYPE=text/html:<span style="font-size:14px\;"><span style="font-family:tahoma\;">Join <strong>Xzia Notary Services\, LLC</strong> and the <strong>Isle of Wight Chamber of Commerce</strong> for our 1st Notary Public Service Day! Notary Public and Certified Loan Signing Agent - Xzia Johnson\, will be at the Hamtown Hub in downtown Smithfield on July 22nd from 9am to 5pm to take care of all your general notary requests. Be sure to bring valid identification such as a passport/driver&#39\;s license. *Please note that real estate transactions are not included in complimentary services offered for this particular event. Limit two stamps per person/transaction.&nbsp\;<span style="color: rgb(5\, 5\, 5)\; background-color: rgb(255\, 255\, 255)\;">Xzia J Notary Services offers mobile professional notary services including power of attorney\, deeds\, trusts\, advanced directives and loan signing services.&nbsp\;</span></span></span>
LOCATION:Hamtown Hub 100 Main street Smithfield\, VA 23430
UID:e.2406.21695
SEQUENCE:3
DTSTAMP:20260420T111919Z
URL:https://www.theisle.biz/events/details/notary-public-service-day-21695
END:VEVENT

END:VCALENDAR
