BEGIN:VCALENDAR
VERSION:2.0
PRODID:-//ChamberMaster//Event Calendar 2.0//EN
METHOD:PUBLISH
X-PUBLISHED-TTL:P3D
REFRESH-INTERVAL:P3D
CALSCALE:GREGORIAN
BEGIN:VEVENT
DTSTART:20230406T140000Z
DTEND:20230406T160000Z
X-MICROSOFT-CDO-ALLDAYEVENT:FALSE
SUMMARY:Ribbon Cutting at Edward Jones
DESCRIPTION:Join us for a ribbon cutting celebration for Edward Jones on April 6\, 2023 at 10:00 am. We will be celebrating their recently renovated office expansion. \n\n\n\nAll Chamber members and future Chamber members are welcome to attend!
X-ALT-DESC;FMTTYPE=text/html:<span style="font-size:14px\;"><span style="font-family:tahoma\;"><span style="color: rgb(34\, 34\, 34)\;">Join us for a ribbon cutting celebration for Edward Jones on April 6\, 2023 at 10:00 am. We will be celebrating their recently renovated office expansion.&nbsp\;</span><br />\n<br />\nAll Chamber members and future Chamber members are welcome to attend!&nbsp\;</span></span>
LOCATION:Edward Jones 1807 S Church St\, Ste B Smithfield\, VA 23430
UID:e.2406.21847
SEQUENCE:3
DTSTAMP:20260421T054600Z
URL:https://www.theisle.biz/events/details/ribbon-cutting-at-edward-jones-21847
END:VEVENT

END:VCALENDAR
