BEGIN:VCALENDAR
VERSION:2.0
PRODID:-//ChamberMaster//Event Calendar 2.0//EN
METHOD:PUBLISH
X-PUBLISHED-TTL:P3D
REFRESH-INTERVAL:P3D
CALSCALE:GREGORIAN
BEGIN:VEVENT
DTSTART:20230429T103000Z
DTEND:20230429T213000Z
X-MICROSOFT-CDO-ALLDAYEVENT:FALSE
SUMMARY:Tour de Cure: Mid-Atlantic
DESCRIPTION:Tour de Cure is our premier cycling event for all ages and abilities. Choose the course that best suits you\, your family\, friends\, and coworkers. You will see beach cruisers\, to road bikes\, and all styles in between. Whether you are an occasional rider or an experienced cyclist\, the Tour de Cure has a little something for everyone. The Tour de Cure: Mid-Atlantic event starts in the quaint and charming town of Smithfield\, then travels through the peaceful countryside of Isle of Wight and Surry Counties. All the routes will be well-marked and fully supported with bike mechanics\, volunteer route marshals\, rest stops with food and water\, cheering volunteers\, and more! When you return to the start/finish line\, you will enjoy a delicious post-ride meal\, adult beverage\, massage\, and finisher medal and delight in the music\, fun zone\, cheers\, and camaraderie around you. Champion Riders\, be sure to head over to the golden Champions Tent for your special thank-you gift. Red Riders\, be sure to stop by the Living Red Tent for your Red Rider jersey. Choose your distance and know that every mile helps make a difference. Whether you choose to ride in person or virtually\, all the roads we take will lead to the same destination - to fundraise for a cure and to improve the lives of all people affected by diabetes. Register TODAY and join us on April 29th\, 2023!
X-ALT-DESC;FMTTYPE=text/html:Tour de Cure is our premier cycling event for all ages and abilities. Choose the course that best suits you\, your family\, friends\, and coworkers. You will see beach cruisers\, to road bikes\, and all styles in between. Whether you are an occasional rider or an experienced cyclist\, the Tour de Cure has a little something for everyone. The Tour de Cure: Mid-Atlantic event starts in the quaint and charming town of Smithfield\, then travels through the peaceful countryside of Isle of Wight and Surry Counties. All the routes will be well-marked and fully supported with bike mechanics\, volunteer route marshals\, rest stops with food and water\, cheering volunteers\, and more! When you return to the start/finish line\, you will enjoy a delicious post-ride meal\, adult beverage\, massage\, and finisher medal and delight in the music\, fun zone\, cheers\, and camaraderie around you. Champion Riders\, be sure to head over to the golden Champions Tent for your special thank-you gift. Red Riders\, be sure to stop by the Living Red Tent for your Red Rider jersey. Choose your distance and know that every mile helps make a difference. Whether you choose to ride in person or virtually\, all the roads we take will lead to the same destination - to fundraise for a cure and to improve the lives of all people affected by diabetes. Register TODAY and join us on April 29th\, 2023!
LOCATION:Windsor Castle Park\, Smithfield
UID:e.2406.21853
SEQUENCE:3
DTSTAMP:20260421T053651Z
URL:https://www.theisle.biz/events/details/tour-de-cure-mid-atlantic-21853
END:VEVENT

END:VCALENDAR
